BEGIN:VCALENDAR
VERSION:2.0
PRODID:SchoolNow
CALSCALE:GREGORIAN
BEGIN:VEVENT
UID:17f776d8-3d10-11ee-8071-0e52cc46207d
DTSTAMP:20230817T150942Z
SUMMARY:Transition Day Kindergarten M-Z
LOCATION:Park Elementary
URL;VALUE=URI:https://www.steelvalleysd.org/communication/calendar/4585552/
 transition-day-kindergarten-m-z
DTSTART:20230824T120000Z
DTEND:20230824T181500Z
END:VEVENT
END:VCALENDAR
