BEGIN:VCALENDAR
VERSION:2.0
PRODID:SchoolNow
CALSCALE:GREGORIAN
BEGIN:VEVENT
UID:d4c8a788-3d0f-11ee-9a32-0a58a9feac02
DTSTAMP:20230817T150749Z
SUMMARY:Transition Day Kindergarten A-L
LOCATION:Park Elementary
URL;VALUE=URI:https://www.steelvalleysd.org/communication/calendar/4585550/
 tra
DTSTART:20230823T120000Z
DTEND:20230823T181500Z
END:VEVENT
END:VCALENDAR
