BEGIN:VCALENDAR
VERSION:2.0
PRODID:SchoolNow
CALSCALE:GREGORIAN
BEGIN:VEVENT
UID:f1b015b8-379f-11ee-9f63-0a58a9feac02
DTSTAMP:20230817T154006Z
SUMMARY:Act 80 Days - No School for Students
LOCATION:Steel Valley School District
URL;VALUE=URI:https://www.steelvalleysd.org/communication/calendar/4563009/
 act-80-days
DTSTART:20230822T110000Z
DTEND:20230822T200000Z
END:VEVENT
END:VCALENDAR
