BEGIN:VCALENDAR
VERSION:2.0
PRODID:SchoolNow
CALSCALE:GREGORIAN
BEGIN:VEVENT
UID:65d9e754-3794-11ee-8b6e-0a58a9feac02
DTSTAMP:20230810T154234Z
SUMMARY:Meet the Principal - Barrett
LOCATION:Barrett Elementary
URL;VALUE=URI:https://www.steelvalleysd.org/communication/calendar/4562843/
 meet-the-principal-barrett
DTSTART:20230817T220000Z
DTEND:20230817T230000Z
END:VEVENT
END:VCALENDAR
