BEGIN:VCALENDAR
VERSION:2.0
PRODID:SchoolNow
CALSCALE:GREGORIAN
BEGIN:VEVENT
UID:045dfbfa-3794-11ee-bf36-0a58a9feac02
DTSTAMP:20230817T201502Z
SUMMARY:Meet the Principal - Barrett - Kindergarten
LOCATION:Barrett Elementary
URL;VALUE=URI:https://www.steelvalleysd.org/communication/calendar/4562842/
 meet-the-principal-night
DTSTART:20230817T210000Z
DTEND:20230817T220000Z
END:VEVENT
END:VCALENDAR
