BEGIN:VCALENDAR
VERSION:2.0
PRODID:SchoolNow
CALSCALE:GREGORIAN
BEGIN:VEVENT
UID:448cefcc-2805-11ee-9d04-0ee2d59701f1
DTSTAMP:20230817T150603Z
SUMMARY:Transition Grades Report (K\, 5th & 9th Only)
LOCATION:Steel Valley School District
URL;VALUE=URI:https://www.steelvalleysd.org/communication/calendar/4512681/
 transition-grades-report-k-5th-9th-only
DTSTART:20230824T110000Z
DTEND:20230824T200000Z
END:VEVENT
END:VCALENDAR
