BEGIN:VCALENDAR
VERSION:2.0
PRODID:SchoolNow
CALSCALE:GREGORIAN
BEGIN:VEVENT
UID:03c23948-2805-11ee-8b88-0e19560cce11
DTSTAMP:20230721T202806Z
SUMMARY:All Students Report To Schools
LOCATION:Steel Valley School District
URL;VALUE=URI:https://www.steelvalleysd.org/communication/calendar/4512680/
 all-students-report-to-schools
DTSTART:20230825T110000Z
DTEND:20230825T200000Z
END:VEVENT
END:VCALENDAR
