BEGIN:VCALENDAR
VERSION:2.0
PRODID:SchoolNow
CALSCALE:GREGORIAN
BEGIN:VEVENT
UID:85a74f26-2804-11ee-9613-0aad4f297d07
DTSTAMP:20230721T202358Z
SUMMARY:Clerical Day/No School for Students
LOCATION:Steel Valley School District
URL;VALUE=URI:https://www.steelvalleysd.org/communication/calendar/4512679/
 clerical-day-no-school-for-students
DTSTART;VALUE=DATE:20230823
DTEND;VALUE=DATE:20230824
END:VEVENT
END:VCALENDAR
