BEGIN:VCALENDAR
VERSION:2.0
PRODID:SchoolNow
CALSCALE:GREGORIAN
BEGIN:VEVENT
UID:4c4e51b6-2804-11ee-9fdd-0e19560cce11
DTSTAMP:20230721T202627Z
SUMMARY:Act 80 Days - Transition Day
LOCATION:Steel Valley School District
URL;VALUE=URI:https://www.steelvalleysd.org/communication/calendar/4512678/
 act-80-days-transition-day
DTSTART:20230824T110000Z
DTEND:20230824T200000Z
END:VEVENT
END:VCALENDAR
