BEGIN:VCALENDAR
VERSION:2.0
PRODID:SchoolNow
CALSCALE:GREGORIAN
BEGIN:VEVENT
UID:1a2dbc76-2804-11ee-bc64-0aad4f297d07
DTSTAMP:20230721T202057Z
SUMMARY:New Staff Orientation
LOCATION:Steel Valley School District
URL;VALUE=URI:https://www.steelvalleysd.org/communication/calendar/4512677/
 new-staff-orientation
DTSTART:20230818T120000Z
DTEND:20230818T200000Z
END:VEVENT
END:VCALENDAR
