BEGIN:VCALENDAR
VERSION:2.0
PRODID:SchoolNow
CALSCALE:GREGORIAN
BEGIN:VEVENT
UID:dd9f7b5a-2803-11ee-9699-0e19560cce11
DTSTAMP:20230721T201916Z
SUMMARY:Teacher Inservice/No School for Students
LOCATION:Steel Valley School District
URL;VALUE=URI:https://www.steelvalleysd.org/communication/calendar/4512676/
 teacher-inservice-no-school-for-students
DTSTART;VALUE=DATE:20230821
DTEND;VALUE=DATE:20230822
END:VEVENT
END:VCALENDAR
