BEGIN:VCALENDAR
VERSION:2.0
PRODID:SchoolNow
CALSCALE:GREGORIAN
BEGIN:VEVENT
UID:7fe46386-2803-11ee-ae8c-0a03a7dff97d
DTSTAMP:20230810T151729Z
SUMMARY:Meet the Principal Night at Park
LOCATION:Park Elementary
URL;VALUE=URI:https://www.steelvalleysd.org/communication/calendar/4512675/
 meet-the-principal-night
DTSTART:20230817T213000Z
DTEND:20230817T223000Z
END:VEVENT
END:VCALENDAR
