BEGIN:VCALENDAR
VERSION:2.0
PRODID:SchoolNow
CALSCALE:GREGORIAN
BEGIN:VEVENT
UID:560fa82c-2803-11ee-b062-0215c38ff85b
DTSTAMP:20230811T151205Z
SUMMARY:Meet the Principal Night - High School
LOCATION:High School Auditorium
URL;VALUE=URI:https://www.steelvalleysd.org/communication/calendar/4512458/
 meet-the-principal-night
DTSTART:20230816T220000Z
DTEND:20230817T000000Z
END:VEVENT
END:VCALENDAR
