BEGIN:VCALENDAR
VERSION:2.0
PRODID:SchoolNow
CALSCALE:GREGORIAN
BEGIN:VEVENT
UID:36350d26-2803-11ee-9677-0ec8be312563
DTSTAMP:20230811T155324Z
SUMMARY:Meet the Principal Night - Middle School
LOCATION:High School Auditorium
URL;VALUE=URI:https://www.steelvalleysd.org/communication/calendar/4512353/
 meet-the-principal-night
DTSTART:20230815T220000Z
DTEND:20230815T230000Z
END:VEVENT
END:VCALENDAR
