BEGIN:VCALENDAR
VERSION:2.0
PRODID:SchoolNow
CALSCALE:GREGORIAN
BEGIN:VEVENT
UID:2467eda6-0c57-11ee-986c-0a420381aa6b
DTSTAMP:20230616T150627Z
SUMMARY:Notice:  YOUTH AND HIGH SCHOOL BASEBALL AND SOFTBALL PLAYERS NEEDED
 !!
URL;VALUE=URI:https://www.steelvalleysd.org/communication/calendar/4397979/
 notice-youth-and-high-school-baseball-and-softball-players-needed
DTSTART:20230616T150100Z
DTEND:20230619T160100Z
END:VEVENT
END:VCALENDAR
