BEGIN:VCALENDAR
VERSION:2.0
PRODID:SchoolNow
CALSCALE:GREGORIAN
BEGIN:VEVENT
UID:58fff104-0189-11ee-b76c-027b17d87df7
DTSTAMP:20230613T155844Z
SUMMARY:Notice of Public Hearing -  New Elementary School
LOCATION:Steel Valley High School Auditorium
URL;VALUE=URI:https://www.steelvalleysd.org/communication/calendar/4340963/
 notice-of-public-hearing-new-elementary-school
DTSTART:20230622T210000Z
DTEND:20230622T220000Z
END:VEVENT
END:VCALENDAR
