BEGIN:VCALENDAR
VERSION:2.0
PRODID:SchoolNow
CALSCALE:GREGORIAN
BEGIN:VEVENT
UID:6a7fedc2-fbf2-11ed-baa9-024606068b55
DTSTAMP:20230526T182530Z
SUMMARY:Superintendent Letter on Mental Health
LOCATION:Steel Valley School District
URL;VALUE=URI:https://www.steelvalleysd.org/communication/calendar/4306697/
 superintendent-letter-on-mental-health
DTSTART:20230526T182200Z
DTEND:20230526T192200Z
ATTACH;FILENAME=Superintendent Letter on Mental Health  05-26-23.pdf;FMTTYP
 E=application/pdf:https://campussuite-storage.s3.amazonaws.com/prod/107478
 7/6763d576-3536-11e7-9e05-124f7febbf4a/2602430/3d1b9918-fbf1-11ed-b1f8-024
 606068b55/file/Superintendent Letter on Mental Health  05-26-23.pdf
END:VEVENT
END:VCALENDAR
