BEGIN:VCALENDAR
VERSION:2.0
PRODID:SchoolNow
CALSCALE:GREGORIAN
BEGIN:VEVENT
UID:75095920-f9ab-11ed-bd48-0add73a59c55
DTSTAMP:20230523T205241Z
SUMMARY:SV Kennywood Picnic
LOCATION:Kennywood Park
URL;VALUE=URI:https://www.steelvalleysd.org/communication/calendar/4290684/
 sv-kennywood-picnic
DTSTART:20230606T104800Z
DTEND:20230606T234800Z
END:VEVENT
END:VCALENDAR
