BEGIN:VCALENDAR
VERSION:2.0
PRODID:SchoolNow
CALSCALE:GREGORIAN
BEGIN:VEVENT
UID:8b6e7706-f58f-11ed-ab50-0e74351a14c5
DTSTAMP:20230523T204148Z
SUMMARY:Class of 2023 Car Parade
LOCATION:Steel Valley School District
URL;VALUE=URI:https://www.steelvalleysd.org/communication/calendar/4262529/
 class-of-car-parade
DTSTART:20230530T220000Z
DTEND:20230530T230000Z
ATTACH;FILENAME=Senior Car Parade 2023.pdf;FMTTYPE=application/pdf:https://
 campussuite-storage.s3.amazonaws.com/prod/1074787/6763d576-3536-11e7-9e05-
 124f7febbf4a/2595167/a1788458-f58d-11ed-a31a-0e74351a14c5/file/Senior Car 
 Parade 2023.pdf
END:VEVENT
END:VCALENDAR
