BEGIN:VCALENDAR
VERSION:2.0
PRODID:SchoolNow
CALSCALE:GREGORIAN
BEGIN:VEVENT
UID:d7d00f5c-f52f-11ed-ace1-0aad81a65ecb
DTSTAMP:20230518T100927Z
SUMMARY:Student Summer Workers Grades 10th – 12th
LOCATION:Steel Valley School District
URL;VALUE=URI:https://www.steelvalleysd.org/communication/calendar/4259788/
 student-summer-workers-grades-10th-12th
DTSTART:20230519T204500Z
DTEND:20230519T214500Z
ATTACH;FILENAME=Posting Student Summer Workers 05-17-23.pdf;FMTTYPE=applica
 tion/pdf:https://campussuite-storage.s3.amazonaws.com/prod/1074787/6763d57
 6-3536-11e7-9e05-124f7febbf4a/2594751/cf73176a-f52e-11ed-ad25-0aad81a65ecb
 /file/Posting Student Summer Workers 05-17-23.pdf
END:VEVENT
END:VCALENDAR
