BEGIN:VCALENDAR
VERSION:2.0
PRODID:SchoolNow
CALSCALE:GREGORIAN
BEGIN:VEVENT
UID:ac9e6d34-f41b-11ed-8229-02a271712035
DTSTAMP:20230516T185841Z
SUMMARY:Middle School Play
LOCATION:SVHS Auditorium
URL;VALUE=URI:https://www.steelvalleysd.org/communication/calendar/4252022/
 middle-school-play
DTSTART:20230518T230000Z
DTEND:20230521T000000Z
END:VEVENT
END:VCALENDAR
