BEGIN:VCALENDAR
VERSION:2.0
PRODID:SchoolNow
CALSCALE:GREGORIAN
BEGIN:VEVENT
UID:ec9791be-ef60-11ed-9029-0e84e05c4aad
DTSTAMP:20230510T183148Z
SUMMARY:MS & HS Physical
LOCATION:Steel Valley School District
URL;VALUE=URI:https://www.steelvalleysd.org/communication/calendar/4218740/
 ms-hs-physical
DTSTART:20230531T100000Z
DTEND:20230531T200000Z
END:VEVENT
END:VCALENDAR
