BEGIN:VCALENDAR
VERSION:2.0
PRODID:SchoolNow
CALSCALE:GREGORIAN
BEGIN:VEVENT
UID:d9e1a618-ef60-11ed-b56e-0e84e05c4aad
DTSTAMP:20230510T183116Z
SUMMARY:MS & HS Physical
LOCATION:Steel Valley School District
URL;VALUE=URI:https://www.steelvalleysd.org/communication/calendar/4218739/
 ms-hs-physical
DTSTART:20230526T100000Z
DTEND:20230526T200000Z
END:VEVENT
END:VCALENDAR
