BEGIN:VCALENDAR
VERSION:2.0
PRODID:SchoolNow
CALSCALE:GREGORIAN
BEGIN:VEVENT
UID:d2b2272a-ee78-11ed-adad-0ae02024306d
DTSTAMP:20230509T145021Z
SUMMARY:Girls on the Run Teams  - 5K at the Waterfront
LOCATION:Waterfront
URL;VALUE=URI:https://www.steelvalleysd.org/communication/calendar/4211285/
 girls-on-the-run-teams-5k-at-the-waterfront
DTSTART:20230521T100000Z
DTEND:20230521T200000Z
END:VEVENT
END:VCALENDAR
