BEGIN:VCALENDAR
VERSION:2.0
PRODID:SchoolNow
CALSCALE:GREGORIAN
BEGIN:VEVENT
UID:ab222142-ea77-11ed-9c41-0edd1ede0373
DTSTAMP:20230504T123644Z
SUMMARY:Steel Valley Grows Garden
LOCATION:Franklin Garden Space
URL;VALUE=URI:https://www.steelvalleysd.org/communication/calendar/4180982/
 steel-valley-grows-garden
DTSTART:20230520T170000Z
DTEND:20230520T210000Z
END:VEVENT
END:VCALENDAR
