BEGIN:VCALENDAR
VERSION:2.0
PRODID:SchoolNow
CALSCALE:GREGORIAN
BEGIN:VEVENT
UID:d02dcb70-e8fc-11ed-aa9b-02104911e151
DTSTAMP:20230502T152106Z
SUMMARY:Community Meeting - Meet the Candidates Night
LOCATION:Steel Valley High School Auditorium
URL;VALUE=URI:https://www.steelvalleysd.org/communication/calendar/4167723/
 community-meeting-meet-the-candidates-night
DTSTART:20230510T230000Z
DTEND:20230511T003000Z
ATTACH;FILENAME=SV Meet the Candidates V2.png;FMTTYPE=image/png:https://cam
 pussuite-storage.s3.amazonaws.com/prod/1074787/6763d576-3536-11e7-9e05-124
 f7febbf4a/2586838/67cc8670-e8fc-11ed-8104-02604d1d31e7/file/SV Meet the Ca
 ndidates V2.png
END:VEVENT
END:VCALENDAR
