BEGIN:VCALENDAR
VERSION:2.0
PRODID:SchoolNow
CALSCALE:GREGORIAN
BEGIN:VEVENT
UID:7b4a15b0-e833-11ed-bdf8-02e06f214c79
DTSTAMP:20230501T151931Z
SUMMARY:Memorial Day
LOCATION:Steel Valley School District
URL;VALUE=URI:https://www.steelvalleysd.org/communication/calendar/4162056/
 memorial-day
DTSTART:20230529T110000Z
DTEND:20230529T200000Z
END:VEVENT
END:VCALENDAR
