BEGIN:VCALENDAR
VERSION:2.0
PRODID:SchoolNow
CALSCALE:GREGORIAN
BEGIN:VEVENT
UID:4fc2a3e0-e832-11ed-a6aa-02e06f214c79
DTSTAMP:20230501T151030Z
SUMMARY:Vision to Learn
LOCATION:Park Elementary
URL;VALUE=URI:https://www.steelvalleysd.org/communication/calendar/4162011/
 vision-to-learn-clone
DTSTART:20231030T110000Z
DTEND:20231030T220000Z
END:VEVENT
END:VCALENDAR
