BEGIN:VCALENDAR
VERSION:2.0
PRODID:SchoolNow
CALSCALE:GREGORIAN
BEGIN:VEVENT
UID:3b03605c-e832-11ed-b755-02e06f214c79
DTSTAMP:20231025T203440Z
SUMMARY:Vision to Learn
LOCATION:Park Elementary
URL;VALUE=URI:https://www.steelvalleysd.org/communication/calendar/4162010/
 vision-to-learn
DTSTART:20231025T110000Z
DTEND:20231025T220000Z
END:VEVENT
END:VCALENDAR
