BEGIN:VCALENDAR
VERSION:2.0
PRODID:SchoolNow
CALSCALE:GREGORIAN
BEGIN:VEVENT
UID:1d2f21ec-e832-11ed-a5f9-02e06f214c79
DTSTAMP:20231002T144212Z
SUMMARY:Vision to Learn
LOCATION:Park Elementary
URL;VALUE=URI:https://www.steelvalleysd.org/communication/calendar/4162009/
 vision-to-learn
DTSTART:20231023T110000Z
DTEND:20231023T220000Z
END:VEVENT
END:VCALENDAR
