BEGIN:VCALENDAR
VERSION:2.0
PRODID:SchoolNow
CALSCALE:GREGORIAN
BEGIN:VEVENT
UID:c4f0f16e-e56a-11ed-8239-02e31c129195
DTSTAMP:20230428T021705Z
SUMMARY:SV Promenade
URL;VALUE=URI:https://www.steelvalleysd.org/communication/calendar/4140319/
 sv-promenade
DTSTART:20230505T201500Z
DTEND:20230505T211500Z
ATTACH;FILENAME=2023 Steel Valley Promenade.pdf;FMTTYPE=application/pdf:htt
 ps://campussuite-storage.s3.amazonaws.com/prod/1074787/6763d576-3536-11e7-
 9e05-124f7febbf4a/2585022/6aee5128-e567-11ed-aeba-02e31c129195/file/2023 S
 teel Valley Promenade.pdf
END:VEVENT
END:VCALENDAR
