BEGIN:VCALENDAR
VERSION:2.0
PRODID:SchoolNow
CALSCALE:GREGORIAN
BEGIN:VEVENT
UID:c63acd0a-df76-11ed-8904-0ac863aff2f3
DTSTAMP:20230420T122754Z
SUMMARY:Spring Vocal Concert
LOCATION:High School Auditorium
URL;VALUE=URI:https://www.steelvalleysd.org/communication/calendar/4090088/
 spring-vocal-concert
DTSTART:20230509T122500Z
DTEND:20230510T012500Z
END:VEVENT
END:VCALENDAR
