BEGIN:VCALENDAR
VERSION:2.0
PRODID:SchoolNow
CALSCALE:GREGORIAN
BEGIN:VEVENT
UID:198b878c-d3de-11ed-a5df-0eadb68e6895
DTSTAMP:20230405T181847Z
SUMMARY:School Dental - Middle School
LOCATION:SV Middle School
URL;VALUE=URI:https://www.steelvalleysd.org/communication/calendar/3989408/
 school-dental-middle-school
DTSTART:20230503T100000Z
DTEND:20230503T210000Z
END:VEVENT
END:VCALENDAR
