BEGIN:VCALENDAR
VERSION:2.0
PRODID:SchoolNow
CALSCALE:GREGORIAN
BEGIN:VEVENT
UID:d5565bf0-d3dd-11ed-90c3-0eadb68e6895
DTSTAMP:20230405T181735Z
SUMMARY:School Dental - Barrett Elementary
LOCATION:Barrett Elementary
URL;VALUE=URI:https://www.steelvalleysd.org/communication/calendar/3989406/
 school-dental-barrett-elementary
DTSTART:20230419T100000Z
DTEND:20230419T210000Z
END:VEVENT
END:VCALENDAR
