BEGIN:VCALENDAR
VERSION:2.0
PRODID:SchoolNow
CALSCALE:GREGORIAN
BEGIN:VEVENT
UID:a1c0d4fa-d3dd-11ed-80f1-0eadb68e6895
DTSTAMP:20230405T181357Z
SUMMARY:School Dental - Park Elementary
LOCATION:Park Elementary
URL;VALUE=URI:https://www.steelvalleysd.org/communication/calendar/3989400/
 school-dental-park-elementary
DTSTART:20230412T100000Z
DTEND:20230412T210000Z
END:VEVENT
END:VCALENDAR
