BEGIN:VCALENDAR
VERSION:2.0
PRODID:SchoolNow
CALSCALE:GREGORIAN
BEGIN:VEVENT
UID:250f1976-be9d-11ed-8b5b-0e26cdc18239
DTSTAMP:20230309T170925Z
SUMMARY:SV Boy's Basketball PIAA First Round Playoff
URL;VALUE=URI:https://www.steelvalleysd.org/communication/calendar/3841130/
 sv-boys-basketball-piaa-first-round-playoff
DTSTART:20230311T190000Z
DTEND:20230311T210000Z
END:VEVENT
END:VCALENDAR
