BEGIN:VCALENDAR
VERSION:2.0
PRODID:SchoolNow
CALSCALE:GREGORIAN
BEGIN:VEVENT
UID:1ff427f8-b3ba-11ed-86f6-0e92b096d563
DTSTAMP:20230223T203909Z
SUMMARY:Report Cards
LOCATION:Steel Valley School District
URL;VALUE=URI:https://www.steelvalleysd.org/communication/calendar/3772700/
 report-cards-clone
DTSTART:20230329T110000Z
DTEND:20230329T210000Z
END:VEVENT
END:VCALENDAR
