BEGIN:VCALENDAR
VERSION:2.0
PRODID:SchoolNow
CALSCALE:GREGORIAN
BEGIN:VEVENT
UID:3a9056b2-aca4-11ed-a6f6-020c20e94b99
DTSTAMP:20230214T201447Z
SUMMARY:Barrett Black History Month Living Interactive Museum
LOCATION:Barrett Elementary School
URL;VALUE=URI:https://www.steelvalleysd.org/communication/calendar/3745205/
 barrett-black-history-month-living-interactive-museum
DTSTART:20230223T173000Z
DTEND:20230223T194500Z
ATTACH;FILENAME=BHM Museum Rotator.jpg;FMTTYPE=image/jpeg:https://campussui
 te-storage.s3.amazonaws.com/prod/1074787/6763d576-3536-11e7-9e05-124f7febb
 f4a/2551415/982ea468-ac9a-11ed-ae4c-02d4f734b727/file/BHM Museum Rotator.j
 pg
END:VEVENT
END:VCALENDAR
