BEGIN:VCALENDAR
VERSION:2.0
PRODID:SchoolNow
CALSCALE:GREGORIAN
BEGIN:VEVENT
UID:1cd6ebca-abb1-11ed-861b-0eeac786ae5d
DTSTAMP:20230213T151648Z
SUMMARY:SV Drama "Disney's The Little Mermaid"
LOCATION:HS Auditorium
URL;VALUE=URI:https://www.steelvalleysd.org/communication/calendar/3741649/
 sv-drama-disneys-the-little-mermaid
DTSTART:20230401T110600Z
DTEND:20230402T200600Z
END:VEVENT
END:VCALENDAR
