BEGIN:VCALENDAR
VERSION:2.0
PRODID:SchoolNow
CALSCALE:GREGORIAN
BEGIN:VEVENT
UID:056cef4e-a976-11ed-87ac-0ad51d14d205
DTSTAMP:20230316T133953Z
SUMMARY:Prom Tickets on Sale
LOCATION:SV High School
URL;VALUE=URI:https://www.steelvalleysd.org/communication/calendar/3734767/
 prom-tickets-on-sale
DTSTART:20230327T100000Z
DTEND:20230405T200000Z
END:VEVENT
END:VCALENDAR
