BEGIN:VCALENDAR
VERSION:2.0
PRODID:SchoolNow
CALSCALE:GREGORIAN
BEGIN:VEVENT
UID:89636ce4-a974-11ed-b185-0a30e229f60b
DTSTAMP:20230210T190754Z
SUMMARY:2023 Prom
LOCATION:Stratigos Banquet Centre
URL;VALUE=URI:https://www.steelvalleysd.org/communication/calendar/3734766/
 2023-prom
DTSTART:20230505T220000Z
DTEND:20230506T020000Z
END:VEVENT
END:VCALENDAR
