BEGIN:VCALENDAR
VERSION:2.0
PRODID:SchoolNow
CALSCALE:GREGORIAN
BEGIN:VEVENT
UID:54a4776a-a888-11ed-9571-0ec989627abd
DTSTAMP:20230209T144500Z
SUMMARY:Prom Fundraiser
LOCATION:SV High School
URL;VALUE=URI:https://www.steelvalleysd.org/communication/calendar/3730767/
 prom-fundraiser
DTSTART:20230213T110000Z
DTEND:20230301T220000Z
END:VEVENT
END:VCALENDAR
