BEGIN:VCALENDAR
VERSION:2.0
PRODID:SchoolNow
CALSCALE:GREGORIAN
BEGIN:VEVENT
UID:009c6f54-9921-11ed-bd2c-02d9d243b90f
DTSTAMP:20230121T001734Z
SUMMARY:Care Mobile
LOCATION:Steel Valley High School
URL;VALUE=URI:https://www.steelvalleysd.org/communication/calendar/3678770/
 care-mobile
DTSTART:20230227T143000Z
DTEND:20230227T183000Z
ATTACH;FILENAME=Care Mobile - Steel Valley Jan - April 2023.pdf;FMTTYPE=app
 lication/pdf:https://campussuite-storage.s3.amazonaws.com/prod/1074787/676
 3d576-3536-11e7-9e05-124f7febbf4a/2532694/9dcf849c-8b8d-11ed-a260-0ed36fcd
 01ef/file/Care Mobile - Steel Valley Jan - April 2023.pdf
END:VEVENT
END:VCALENDAR
