BEGIN:VCALENDAR
VERSION:2.0
PRODID:SchoolNow
CALSCALE:GREGORIAN
BEGIN:VEVENT
UID:de397934-9920-11ed-a242-02d9d243b90f
DTSTAMP:20230320T125018Z
SUMMARY:Care Mobile
LOCATION:Barrett Elementary
URL;VALUE=URI:https://www.steelvalleysd.org/communication/calendar/3678769/
 care-mobile-clone
DTSTART:20230327T133000Z
DTEND:20230327T173000Z
ATTACH;FILENAME=Care Mobile - Steel Valley Jan - April 2023.pdf;FMTTYPE=app
 lication/pdf:https://campussuite-storage.s3.amazonaws.com/prod/1074787/676
 3d576-3536-11e7-9e05-124f7febbf4a/2532694/9dcf849c-8b8d-11ed-a260-0ed36fcd
 01ef/file/Care Mobile - Steel Valley Jan - April 2023.pdf
END:VEVENT
END:VCALENDAR
