BEGIN:VCALENDAR
VERSION:2.0
PRODID:SchoolNow
CALSCALE:GREGORIAN
BEGIN:VEVENT
UID:3c7b0d88-91fa-11ed-bdbb-0a52209dcc57
DTSTAMP:20231206T202247Z
SUMMARY:Regular Board Meeting
URL;VALUE=URI:https://www.steelvalleysd.org/communication/calendar/3664276/
 regular-board-meeting
DTSTART:20231208T000000Z
DTEND:20231208T010000Z
ATTACH;FILENAME="December 7, 2023 Regular Agenda.pdf";FMTTYPE=application/p
 df:https://campussuite-storage.s3.amazonaws.com/prod/1074787/6763d576-3536
 -11e7-9e05-124f7febbf4a/2710438/31687c18-9475-11ee-8899-0a58a9feac02/file/
 December 7\, 2023 Regular Agenda.pdf
END:VEVENT
END:VCALENDAR
