BEGIN:VCALENDAR
VERSION:2.0
PRODID:SchoolNow
CALSCALE:GREGORIAN
BEGIN:VEVENT
UID:1b192256-91fa-11ed-8aad-0a52209dcc57
DTSTAMP:20231026T191001Z
SUMMARY:Regular Board Meeting
URL;VALUE=URI:https://www.steelvalleysd.org/communication/calendar/3664275/
 regular-board-meeting
DTSTART:20231026T230000Z
DTEND:20231027T000000Z
ATTACH;FILENAME="REVISED - October 26, 2023 Regular Agenda.pdf";FMTTYPE=app
 lication/pdf:https://campussuite-storage.s3.amazonaws.com/prod/1074787/676
 3d576-3536-11e7-9e05-124f7febbf4a/2687993/3d585000-7433-11ee-ab71-0a4eefc4
 5e5b/file/REVISED - October 26\, 2023 Regular Agenda.pdf
END:VEVENT
END:VCALENDAR
