BEGIN:VCALENDAR
VERSION:2.0
PRODID:SchoolNow
CALSCALE:GREGORIAN
BEGIN:VEVENT
UID:d39c635c-91f9-11ed-9bb7-0a52209dcc57
DTSTAMP:20230927T214326Z
SUMMARY:Regular Board Meeting
LOCATION:High School Library In-Person
URL;VALUE=URI:https://www.steelvalleysd.org/communication/calendar/3664274/
 regular-board-meeting
DTSTART:20230928T230000Z
DTEND:20230929T000000Z
ATTACH;FILENAME="September 28, 2023 Regular Agenda-2.pdf";FMTTYPE=applicati
 on/pdf:https://campussuite-storage.s3.amazonaws.com/prod/1074787/6763d576-
 3536-11e7-9e05-124f7febbf4a/2670531/dae76b4c-5d7e-11ee-aa41-027edb05bc83/f
 ile/September 28\, 2023 Regular Agenda-2.pdf
END:VEVENT
END:VCALENDAR
