BEGIN:VCALENDAR
VERSION:2.0
PRODID:SchoolNow
CALSCALE:GREGORIAN
BEGIN:VEVENT
UID:c0cfc8cc-91f9-11ed-addc-0a52209dcc57
DTSTAMP:20230817T200941Z
SUMMARY:Regular Board Meeting
URL;VALUE=URI:https://www.steelvalleysd.org/communication/calendar/3664273/
 regular-board-meeting
DTSTART:20230817T230000Z
DTEND:20230818T000000Z
ATTACH;FILENAME="August 17, 2023 Regular Agenda.pdf";FMTTYPE=application/pd
 f:https://campussuite-storage.s3.amazonaws.com/prod/1074787/6763d576-3536-
 11e7-9e05-124f7febbf4a/2644004/31eeeb68-3c91-11ee-a969-0e52cc46207d/file/A
 ugust 17\, 2023 Regular Agenda.pdf
END:VEVENT
END:VCALENDAR
