BEGIN:VCALENDAR
VERSION:2.0
PRODID:SchoolNow
CALSCALE:GREGORIAN
BEGIN:VEVENT
UID:ae96eb22-91f9-11ed-8ebc-0a52209dcc57
DTSTAMP:20230728T144107Z
SUMMARY:Regular Board Meeting
URL;VALUE=URI:https://www.steelvalleysd.org/communication/calendar/3664272/
 regular-board-meeting
DTSTART:20230727T230000Z
DTEND:20230728T000000Z
ATTACH;FILENAME="July 27, 2023 Regular Agenda.pdf";FMTTYPE=application/pdf:
 https://campussuite-storage.s3.amazonaws.com/prod/1074787/6763d576-3536-11
 e7-9e05-124f7febbf4a/2635861/c0fe67ee-2d54-11ee-95dc-0a58a9feac02/file/Jul
 y 27\, 2023 Regular Agenda.pdf
END:VEVENT
END:VCALENDAR
