BEGIN:VCALENDAR
VERSION:2.0
PRODID:SchoolNow
CALSCALE:GREGORIAN
BEGIN:VEVENT
UID:a083f6a6-91f9-11ed-b7ea-0a52209dcc57
DTSTAMP:20230628T202441Z
SUMMARY:Regular Board Meeting - Proposed Final Budget for 2023-2024
URL;VALUE=URI:https://www.steelvalleysd.org/communication/calendar/3664271/
 regular-board-meeting-proposed-final-budget-for-2023-2024
DTSTART:20230629T230000Z
DTEND:20230630T000000Z
ATTACH;FILENAME="June 29, 2023 Regular Agenda.pdf";FMTTYPE=application/pdf:
 https://campussuite-storage.s3.amazonaws.com/prod/1074787/6763d576-3536-11
 e7-9e05-124f7febbf4a/2624910/c530c99e-15f1-11ee-85ef-02f583e27a7f/file/Jun
 e 29\, 2023 Regular Agenda.pdf
END:VEVENT
END:VCALENDAR
